BEGIN:VCALENDAR
VERSION:2.0
PRODID:-//HDI Ohio//Silkstart Technology Inc.//
BEGIN:VTIMEZONE
TZID:America/New_York
BEGIN:DAYLIGHT
DTSTART;VALUE=DATE-TIME:20260308T020000
TZNAME:EDT
TZOFFSETFROM:-0500
TZOFFSETTO:-0400
END:DAYLIGHT
BEGIN:STANDARD
DTSTART;VALUE=DATE-TIME:20261101T020000
TZNAME:EST
TZOFFSETFROM:-0400
TZOFFSETTO:-0500
END:STANDARD
END:VTIMEZONE
BEGIN:VEVENT
SUMMARY:Par-Tee Time: HDI Ohio Social at Topgolf Columbus - Sponsored by  
 TEKsystems
DTSTART;TZID=America/New_York;VALUE=DATE-TIME:20260610T170000
DTEND;TZID=America/New_York;VALUE=DATE-TIME:20260610T190000
DTSTAMP;VALUE=DATE-TIME:20260402T154824
UID:69ce8fc851ea1f05e1583252
DESCRIPTION: HDI Ohio invites you to our summer social on Wednesday\, June 
 10 from 5 - 7 PM at Topgolf Columbus. Enjoy two hours of golf\, food\, 
 drinks\, and great conversations with fellow IT and tech professionals 
 from across Ohio. Whether you're a longtime member or new to the 
 community\, this is the perfect chance to unwind\, connect\, and swing 
 into summer with HDI Ohio! When: Wednesday\, June 10th\, 2026 | 5 - 7 PM 
 Where: Topgolf Columbus 2000 Ikea Way\, Columbus Who: Anyone! Cost: HDI 
 Ohio members - Free! Non-Members - $30 Food/Drink: Food &amp\; Drinks 
 included! What we will discuss: Whatever you want! Attention Students! If 
 you want to attend all HDI Ohio events for free\, look into our new 
 Student Membership\; only $29! Great opportunity to get involved in a 
 professional organization and set yourself up for success in your future! 
LOCATION:2000 Ikea Wy\, Columbus\, OH 43240\, USA
PRIORITY:5
URL:https://hdiohio.com:443/events/2026-name-update-pending-swing-into-
 summer-hdi-ohio-social-at-topgolf-columbus
END:VEVENT
END:VCALENDAR
